BEGIN:VCALENDAR
VERSION:2.0
PRODID:-//hacksw/handcal//NONSGML v1.0//EN
BEGIN:VEVENT
DTSTART:20260618T073000Z
DTEND:20260618T140000Z
LOCATION:ENS Paris-Saclay (Gif-sur-Yvette) \n4, Avenue des Sciences \n91190 GIF-SUR-YVETTE
ORGANIZER;CN=Jérôme SAINT-MARTIN:MAILTO:jerome.saint-martin@ens-paris-saclay.fr
SUMMARY:Quelle formation en électronique pour les technologies quantiques et l’IA ?
DESCRIPTION:📢 SAVE THE DATE – 18 juin 2026🔎 Quelle formation en électronique pour les technologies quantiques et l’IA ?Le Département d’Enseignement et de Recherche Sciences de l’Ingénierie Électrique et...
URL:https://alumni.ens-paris-saclay.fr/en/event/quelle-formation-en-electronique-pour-les-technologies-quantiques-et-l-ia/2026/06/18/203
BEGIN:VALARM
TRIGGER:-P0DT1H0M0S
ACTION:DISPLAY
END:VALARM
END:VEVENT
END:VCALENDAR